BEGIN:VCALENDAR
VERSION:2.0
BEGIN:VEVENT
ORGANIZER:HDN
SUMMARY:SEH Kennis en innovatie event
UID:9541-seh-kennis-en-innovatie-event
DTSTART:20260401T090000
DTEND:20260401T170000
DTSTAMP:20260420T103920
END:VEVENT
END:VCALENDAR
