BEGIN:VCALENDAR
VERSION:2.0
BEGIN:VEVENT
ORGANIZER:HDN
SUMMARY:Werkgroep Bankgaranties📍
UID:9411-werkgroep-bankgaranties-kopiren
DTSTART:20260317T000000
DTEND:20260317T000000
DTSTAMP:20260420T104801
END:VEVENT
END:VCALENDAR
